BEGIN:VCALENDAR
VERSION:2.0
PRODID:-//wp-events-plugin.com//7.2.3.1//EN
TZID:Asia/Tokyo
X-WR-TIMEZONE:Asia/Tokyo
BEGIN:VEVENT
UID:371@academy.shiseido.co.jp
DTSTART;TZID=Asia/Tokyo:20260329T103000
DTEND;TZID=Asia/Tokyo:20260329T123000
DTSTAMP:20251219T005717Z
URL:https://academy.shiseido.co.jp/events/%e3%82%aa%e3%83%bc%e3%83%97%e3%8
 3%b3%e3%82%ad%e3%83%a3%e3%83%b3%e3%83%91%e3%82%b9%e3%80%80%e3%80%90%e3%81%
 8a%e4%bb%95%e4%ba%8b%e7%99%ba%e8%a6%8bsp%ef%bc%81%e3%80%91%e8%81%b7%e6%a5%
 ad%e3%81%94%e3%81%a8/
SUMMARY:オープンキャンパス
DESCRIPTION:\n\n\nクリエイションチームOC\n\n\n
CATEGORIES:オープンキャンパス
END:VEVENT
BEGIN:VTIMEZONE
TZID:Asia/Tokyo
X-LIC-LOCATION:Asia/Tokyo
BEGIN:STANDARD
DTSTART:20250329T103000
TZOFFSETFROM:+0900
TZOFFSETTO:+0900
TZNAME:JST
END:STANDARD
END:VTIMEZONE
END:VCALENDAR