BEGIN:VCALENDAR
VERSION:2.0
PRODID:-//wp-events-plugin.com//7.2.3.1//EN
TZID:Asia/Tokyo
X-WR-TIMEZONE:Asia/Tokyo
BEGIN:VEVENT
UID:232@academy.shiseido.co.jp
DTSTART;TZID=Asia/Tokyo:20240906T172000
DTEND;TZID=Asia/Tokyo:20240906T183500
DTSTAMP:20240807T041255Z
URL:https://academy.shiseido.co.jp/events/%e6%94%be%e8%aa%b2%e5%be%8c%e3%8
 2%aa%e3%83%bc%e3%83%97%e3%83%b3%e3%82%ad%e3%83%a3%e3%83%b3%e3%83%91%e3%82%
 b9-3/
SUMMARY:放課後オープンキャンパス
DESCRIPTION:憧れの美容部員体験\nシセビだけのトレーニン
 グルームで\nメイクを楽しもう!
CATEGORIES:放課後オープンキャンパス
END:VEVENT
BEGIN:VTIMEZONE
TZID:Asia/Tokyo
X-LIC-LOCATION:Asia/Tokyo
BEGIN:STANDARD
DTSTART:20230907T172000
TZOFFSETFROM:+0900
TZOFFSETTO:+0900
TZNAME:JST
END:STANDARD
END:VTIMEZONE
END:VCALENDAR